BEGIN:VCALENDAR
VERSION:2.0
PRODID:-//Western District Conference - ECPv6.15.20//NONSGML v1.0//EN
CALSCALE:GREGORIAN
METHOD:PUBLISH
X-WR-CALNAME:Western District Conference
X-ORIGINAL-URL:https://mennowdc.org
X-WR-CALDESC:Events for Western District Conference
REFRESH-INTERVAL;VALUE=DURATION:PT1H
X-Robots-Tag:noindex
X-PUBLISHED-TTL:PT1H
BEGIN:VTIMEZONE
TZID:America/Chicago
BEGIN:DAYLIGHT
TZOFFSETFROM:-0600
TZOFFSETTO:-0500
TZNAME:CDT
DTSTART:20250309T080000
END:DAYLIGHT
BEGIN:STANDARD
TZOFFSETFROM:-0500
TZOFFSETTO:-0600
TZNAME:CST
DTSTART:20251102T070000
END:STANDARD
BEGIN:DAYLIGHT
TZOFFSETFROM:-0600
TZOFFSETTO:-0500
TZNAME:CDT
DTSTART:20260308T080000
END:DAYLIGHT
BEGIN:STANDARD
TZOFFSETFROM:-0500
TZOFFSETTO:-0600
TZNAME:CST
DTSTART:20261101T070000
END:STANDARD
BEGIN:DAYLIGHT
TZOFFSETFROM:-0600
TZOFFSETTO:-0500
TZNAME:CDT
DTSTART:20270314T080000
END:DAYLIGHT
BEGIN:STANDARD
TZOFFSETFROM:-0500
TZOFFSETTO:-0600
TZNAME:CST
DTSTART:20271107T070000
END:STANDARD
BEGIN:DAYLIGHT
TZOFFSETFROM:-0600
TZOFFSETTO:-0500
TZNAME:CDT
DTSTART:20280312T080000
END:DAYLIGHT
BEGIN:STANDARD
TZOFFSETFROM:-0500
TZOFFSETTO:-0600
TZNAME:CST
DTSTART:20281105T070000
END:STANDARD
END:VTIMEZONE
BEGIN:VEVENT
DTSTART;TZID=America/Chicago:20260409T180000
DTEND;TZID=America/Chicago:20260409T193000
DTSTAMP:20260424T224210
CREATED:20260220T205751Z
LAST-MODIFIED:20260324T205409Z
UID:23309-1775757600-1775763000@mennowdc.org
SUMMARY:WDC Church Planting Commission
DESCRIPTION:Zoom
URL:https://mennowdc.org/event/wdc-cpc-meeting/
CATEGORIES:General Calendar
END:VEVENT
BEGIN:VEVENT
DTSTART;TZID=America/Chicago:20260414T153000
DTEND;TZID=America/Chicago:20260414T170000
DTSTAMP:20260424T224210
CREATED:20260211T160514Z
LAST-MODIFIED:20260218T161733Z
UID:23244-1776180600-1776186000@mennowdc.org
SUMMARY:WDC Gift Discernment Committee
DESCRIPTION:Zoom
URL:https://mennowdc.org/event/wdc-gift-discernment-committee-5/
CATEGORIES:General Calendar
END:VEVENT
BEGIN:VEVENT
DTSTART;TZID=America/Chicago:20260420T180000
DTEND;TZID=America/Chicago:20260420T210000
DTSTAMP:20260424T224210
CREATED:20251007T193903Z
LAST-MODIFIED:20251126T172938Z
UID:22466-1776708000-1776718800@mennowdc.org
SUMMARY:WDC Executive Board
DESCRIPTION:
URL:https://mennowdc.org/event/wdc-executive-board-5/
LOCATION:Zoom
CATEGORIES:General Calendar
END:VEVENT
BEGIN:VEVENT
DTSTART;TZID=America/Chicago:20260421T090000
DTEND;TZID=America/Chicago:20260421T160000
DTSTAMP:20260424T224210
CREATED:20260206T144437Z
LAST-MODIFIED:20260218T161822Z
UID:23203-1776762000-1776787200@mennowdc.org
SUMMARY:WDC Youth Worker Retreat
DESCRIPTION:
URL:https://mennowdc.org/event/wdc-youth-worker-retreat/
CATEGORIES:General Calendar
END:VEVENT
BEGIN:VEVENT
DTSTART;TZID=America/Chicago:20260428T090000
DTEND;TZID=America/Chicago:20260428T160000
DTSTAMP:20260424T224210
CREATED:20251104T173539Z
LAST-MODIFIED:20251104T173539Z
UID:22641-1777366800-1777392000@mennowdc.org
SUMMARY:Healthy Boundaries "Advanced" (201) Training
DESCRIPTION:
URL:https://mennowdc.org/event/healthy-boundaries-advanced-201-training/
LOCATION:Zoom
CATEGORIES:General Calendar
END:VEVENT
BEGIN:VEVENT
DTSTART;TZID=America/Chicago:20260428T153000
DTEND;TZID=America/Chicago:20260428T170000
DTSTAMP:20260424T224210
CREATED:20260211T164104Z
LAST-MODIFIED:20260218T174409Z
UID:23248-1777390200-1777395600@mennowdc.org
SUMMARY:WDC Gift Discernment Committee
DESCRIPTION:Zoom
URL:https://mennowdc.org/event/wdc-gift-discernment-committee-7/
CATEGORIES:General Calendar
END:VEVENT
BEGIN:VEVENT
DTSTART;TZID=America/Chicago:20260501T160000
DTEND;TZID=America/Chicago:20260502T170000
DTSTAMP:20260424T224210
CREATED:20260323T212351Z
LAST-MODIFIED:20260323T212351Z
UID:23416-1777651200-1777741200@mennowdc.org
SUMMARY:Spring Ministers' Retreat
DESCRIPTION:WDC Spring 2026 Ministers’ Retreat
URL:https://mennowdc.org/event/spring-ministers-retreat/
CATEGORIES:General Calendar
END:VEVENT
BEGIN:VEVENT
DTSTART;TZID=America/Chicago:20260505T080000
DTEND;TZID=America/Chicago:20260505T160000
DTSTAMP:20260424T224210
CREATED:20251104T173642Z
LAST-MODIFIED:20260421T210827Z
UID:22643-1777968000-1777996800@mennowdc.org
SUMMARY:Healthy Boundaries "Basics" (101) Training
DESCRIPTION:Healthy Boundaries Training
URL:https://mennowdc.org/event/healthy-boundaries-basics-101-training/
LOCATION:Zoom
CATEGORIES:General Calendar
END:VEVENT
BEGIN:VEVENT
DTSTART;TZID=America/Chicago:20260505T183000
DTEND;TZID=America/Chicago:20260505T203000
DTSTAMP:20260424T224210
CREATED:20260421T175426Z
LAST-MODIFIED:20260421T175426Z
UID:23532-1778005800-1778013000@mennowdc.org
SUMMARY:Stewardship Commission
DESCRIPTION:
URL:https://mennowdc.org/event/stewardship-commission-11/
LOCATION:Zoom
CATEGORIES:General Calendar
END:VEVENT
BEGIN:VEVENT
DTSTART;TZID=America/Chicago:20260507T193000
DTEND;TZID=America/Chicago:20260507T210000
DTSTAMP:20260424T224210
CREATED:20260421T163414Z
LAST-MODIFIED:20260421T163414Z
UID:23530-1778182200-1778187600@mennowdc.org
SUMMARY:Church Planting Commission
DESCRIPTION:
URL:https://mennowdc.org/event/church-planting-commission-19/
LOCATION:Zoom
CATEGORIES:church planting,General Calendar
END:VEVENT
BEGIN:VEVENT
DTSTART;TZID=America/Chicago:20260512T153000
DTEND;TZID=America/Chicago:20260512T170000
DTSTAMP:20260424T224210
CREATED:20260211T164023Z
LAST-MODIFIED:20260218T174446Z
UID:23246-1778599800-1778605200@mennowdc.org
SUMMARY:WDC Gift Discernment Committee
DESCRIPTION:Zoom
URL:https://mennowdc.org/event/wdc-gift-discernment-committee-6/
CATEGORIES:General Calendar
END:VEVENT
BEGIN:VEVENT
DTSTART;TZID=America/Chicago:20260518T160000
DTEND;TZID=America/Chicago:20260518T170000
DTSTAMP:20260424T224210
CREATED:20260406T192907Z
LAST-MODIFIED:20260406T192907Z
UID:23482-1779120000-1779123600@mennowdc.org
SUMMARY:Resource Commission Meeting
DESCRIPTION:
URL:https://mennowdc.org/event/resource-commission-meeting-2/
LOCATION:Zoom
CATEGORIES:General Calendar
END:VEVENT
BEGIN:VEVENT
DTSTART;TZID=America/Chicago:20260519T120000
DTEND;TZID=America/Chicago:20260519T133000
DTSTAMP:20260424T224210
CREATED:20260224T163258Z
LAST-MODIFIED:20260224T163258Z
UID:23331-1779192000-1779197400@mennowdc.org
SUMMARY:Youth Worker Lunch
DESCRIPTION:
URL:https://mennowdc.org/event/youth-worker-lunch-11/
CATEGORIES:General Calendar
END:VEVENT
BEGIN:VEVENT
DTSTART;TZID=America/Chicago:20260520T084500
DTEND;TZID=America/Chicago:20260520T114500
DTSTAMP:20260424T224210
CREATED:20260311T184925Z
LAST-MODIFIED:20260311T184925Z
UID:23382-1779266700-1779277500@mennowdc.org
SUMMARY:Ministerial Leadership Commission
DESCRIPTION:
URL:https://mennowdc.org/event/ministerial-leadership-commission-30/
LOCATION:Zoom
CATEGORIES:General Calendar
END:VEVENT
BEGIN:VEVENT
DTSTART;TZID=America/Chicago:20260526T153000
DTEND;TZID=America/Chicago:20260526T170000
DTSTAMP:20260424T224210
CREATED:20260211T164138Z
LAST-MODIFIED:20260218T174513Z
UID:23250-1779809400-1779814800@mennowdc.org
SUMMARY:WDC Gift Discernment Committee
DESCRIPTION:Zoom
URL:https://mennowdc.org/event/wdc-gift-discernment-committee-8/
CATEGORIES:General Calendar
END:VEVENT
BEGIN:VEVENT
DTSTART;TZID=America/Chicago:20260609T153000
DTEND;TZID=America/Chicago:20260609T170000
DTSTAMP:20260424T224210
CREATED:20260211T164217Z
LAST-MODIFIED:20260218T174557Z
UID:23252-1781019000-1781024400@mennowdc.org
SUMMARY:WDC Gift Discernment Committee
DESCRIPTION:Zoom
URL:https://mennowdc.org/event/wdc-gift-discernment-committee-9/
CATEGORIES:General Calendar
END:VEVENT
BEGIN:VEVENT
DTSTART;TZID=America/Chicago:20260615T180000
DTEND;TZID=America/Chicago:20260615T210000
DTSTAMP:20260424T224210
CREATED:20251007T193942Z
LAST-MODIFIED:20260203T171114Z
UID:22468-1781546400-1781557200@mennowdc.org
SUMMARY:WDC Executive Board
DESCRIPTION:
URL:https://mennowdc.org/event/wdc-executive-board-6/
LOCATION:Zoom
CATEGORIES:General Calendar
END:VEVENT
BEGIN:VEVENT
DTSTART;TZID=America/Chicago:20260617T160000
DTEND;TZID=America/Chicago:20260617T170000
DTSTAMP:20260424T224210
CREATED:20260226T160100Z
LAST-MODIFIED:20260226T160100Z
UID:23343-1781712000-1781715600@mennowdc.org
SUMMARY:WDC Farm Worker Health Task Force
DESCRIPTION:Zoom
URL:https://mennowdc.org/event/wdc-farm-worker-health-task-force/
CATEGORIES:General Calendar
END:VEVENT
BEGIN:VEVENT
DTSTART;TZID=America/Chicago:20260623T153000
DTEND;TZID=America/Chicago:20260623T170000
DTSTAMP:20260424T224210
CREATED:20260211T164258Z
LAST-MODIFIED:20260218T174704Z
UID:23254-1782228600-1782234000@mennowdc.org
SUMMARY:WDC Gift Discernment Committee
DESCRIPTION:Zoom
URL:https://mennowdc.org/event/wdc-gift-discernment-committee-10/
CATEGORIES:General Calendar
END:VEVENT
BEGIN:VEVENT
DTSTART;TZID=America/Chicago:20260728T153000
DTEND;TZID=America/Chicago:20260728T170000
DTSTAMP:20260424T224210
CREATED:20260211T164406Z
LAST-MODIFIED:20260218T174736Z
UID:23258-1785252600-1785258000@mennowdc.org
SUMMARY:WDC Gift Discernment Committee
DESCRIPTION:Zoom
URL:https://mennowdc.org/event/wdc-gift-discernment-committee-12/
CATEGORIES:General Calendar
END:VEVENT
BEGIN:VEVENT
DTSTART;VALUE=DATE:20260807
DTEND;VALUE=DATE:20260810
DTSTAMP:20260424T224210
CREATED:20260421T185740Z
LAST-MODIFIED:20260421T190050Z
UID:23538-1786060800-1786319999@mennowdc.org
SUMMARY:WDC Annual Assembly 2026
DESCRIPTION:2026 Annual Assembly
URL:https://mennowdc.org/event/wdc-annual-assembly-2026/
LOCATION:Iglesia Menonita Luz del Evangalio\, Dallas\, TX\, 1524 Dowdy Ferry Rd\, Dallas\, TX\, 75217
CATEGORIES:General Calendar
END:VEVENT
BEGIN:VEVENT
DTSTART;VALUE=DATE:20270806
DTEND;VALUE=DATE:20270809
DTSTAMP:20260424T224210
CREATED:20260421T185428Z
LAST-MODIFIED:20260421T185428Z
UID:23534-1817510400-1817769599@mennowdc.org
SUMMARY:WDC Annual Assembly 2027
DESCRIPTION:Location in Kansas TBD.
URL:https://mennowdc.org/event/wdc-annual-assembly-2027/
CATEGORIES:General Calendar
END:VEVENT
END:VCALENDAR